BEGIN:VCALENDAR
VERSION:2.0
PRODID:-//Koda Physical Therapy - ECPv6.15.18//NONSGML v1.0//EN
CALSCALE:GREGORIAN
METHOD:PUBLISH
X-ORIGINAL-URL:https://kodapt.com
X-WR-CALDESC:Events for Koda Physical Therapy
REFRESH-INTERVAL;VALUE=DURATION:PT1H
X-Robots-Tag:noindex
X-PUBLISHED-TTL:PT1H
BEGIN:VTIMEZONE
TZID:UTC
BEGIN:STANDARD
TZOFFSETFROM:+0000
TZOFFSETTO:+0000
TZNAME:UTC
DTSTART:20250101T000000
END:STANDARD
END:VTIMEZONE
BEGIN:VEVENT
DTSTART;TZID=UTC:20260416T160000
DTEND;TZID=UTC:20260416T170000
DTSTAMP:20260422T185525
CREATED:20260206T195014Z
LAST-MODIFIED:20260421T184658Z
UID:1097-1776355200-1776358800@kodapt.com
SUMMARY:Knee Pain Workshop April 16\, 2026
DESCRIPTION:Free Knee Pain & Arthritis Workshop in Petaluma\, CA\nRegain Your Mobility with Koda Physical Therapy\nAre you searching for knee pain relief in Petaluma? If joint stiffness or arthritis is keeping you from hiking at Helen Putnam Park in Petaluma\, running\, or simply staying active\, you aren’t alone. At Koda Physical Therapy\, we specialize in helping active adults in Sonoma County overcome chronic knee pain without relying on surgery or pain medication. \nJoin us for a FREE Knee Pain & Arthritis Workshop led by expert local physical therapists. This educational event is specifically designed for Petaluma residents who want to understand the root cause of their discomfort and learn how to protect their joints for years to come. \n\nWorkshop Highlights: What You’ll Discover\n-Root Causes: Identify common triggers for knee pain in active adults.\n-Arthritis Management: Learn how osteoarthritis affects mobility and how to reduce stiffness.\n-Performance Strategies: How to stay active in sports and daily life without knee flare-ups.\n-Corrective Exercise: Functional movements to strengthen the muscles supporting the knee joint.\n-Advanced Treatment Options: Insights into modern regenerative strategies and supportive care.\n-Expert Advice: A live Q&A with a Petaluma physical therapist.\n\nEvent Information\n📅 Date: Thursday\, April 16th\, 2026\n🕓 Time: 4:00 PM – 5:00 PM\n📍 Location: Koda Physical Therapy | 1372 N McDowell Blvd Ste D\, Petaluma\, CA 94954\n💰 Cost: FREE (Pre-registration required)\n\nRegister Today\nSpace is limited for this local event. Secure your spot at the leading Physical Therapy clinic in Petaluma by contacting us today: \n📞 Call: 707-981-8604 \n✉️ Email: info@kodapt.com \n🌐 Link: https://link.physiofunnels.com/qr/x1-YDgeKpPW_
URL:https://kodapt.com/event/knee-pain-workshop-april-16-2026/
END:VEVENT
END:VCALENDAR