BEGIN:VCALENDAR
VERSION:2.0
PRODID:-//Koda Physical Therapy - ECPv6.15.18//NONSGML v1.0//EN
CALSCALE:GREGORIAN
METHOD:PUBLISH
X-WR-CALNAME:Koda Physical Therapy
X-ORIGINAL-URL:https://kodapt.com
X-WR-CALDESC:Events for Koda Physical Therapy
REFRESH-INTERVAL;VALUE=DURATION:PT1H
X-Robots-Tag:noindex
X-PUBLISHED-TTL:PT1H
BEGIN:VTIMEZONE
TZID:UTC
BEGIN:STANDARD
TZOFFSETFROM:+0000
TZOFFSETTO:+0000
TZNAME:UTC
DTSTART:20240101T000000
END:STANDARD
END:VTIMEZONE
BEGIN:VEVENT
DTSTART;TZID=UTC:20260116T140000
DTEND;TZID=UTC:20260116T150000
DTSTAMP:20260422T222112
CREATED:20251201T104815Z
LAST-MODIFIED:20260108T194356Z
UID:1007-1768572000-1768575600@kodapt.com
SUMMARY:Regenerative Therapy Workshop
DESCRIPTION:KODA Physical Therapy Regenerative Therapy Workshop\nKODA Physical Therapy in Petaluma CA invites you to an educational workshop focused on Regenerative Therapy\, an innovative approach designed to support the body’s natural healing process\, reduce pain\, and improve movement. \nThis in-person workshop will be led by Dr. Loren Kimble\, PT\, DPT\, CEO\, Founder\, and Owner of KODA Physical Therapy\, a trusted physical therapy provider serving the Sonoma County community. Dr. Kimble will deliver a clear\, evidence-based lecture and answer common questions about regenerative treatment options. \nDuring this regenerative therapy workshop\, you will learn: \n\n\nWhat regenerative therapy is and how it is used in physical therapy \n\n\nHow regenerative treatments work within the body \n\n\nWhat happens during and after regenerative therapy \n\n\nWho may benefit from regenerative therapy techniques \n\n\nAnswers to frequently asked questions from a licensed physical therapist \n\n\nThis workshop is ideal for individuals in Petaluma or Sonoma County seeking alternatives for pain relief\, injury recovery\, joint health\, or advanced physical therapy solutions. \nJoin KODA Physical Therapy in Petaluma CA to learn more about regenerative therapy and how it may support your recovery and long-term mobility. \nPlease Call or come in person to sign up for the workshop
URL:https://kodapt.com/event/regenerative-therapy-workshop/
LOCATION:Koda PT\, 1372 N McDowell Blvd Ste D Petaluma\, California\, United States
ORGANIZER;CN="Koda Physical Therapy":MAILTO:info@kodapt.com
END:VEVENT
BEGIN:VEVENT
DTSTART;TZID=UTC:20251018T130000
DTEND;TZID=UTC:20251018T140000
DTSTAMP:20260422T222112
CREATED:20260108T200638Z
LAST-MODIFIED:20260108T200638Z
UID:1084-1760792400-1760796000@kodapt.com
SUMMARY:Neuropathy Workshop
DESCRIPTION:KODA Physical Therapy Neuropathy Workshop | Petaluma\, CA\nSeptember 18\, 2025 from 1-2 PM \nKODA Physical Therapy in Petaluma\, California invites you to attend an educational Neuropathy Workshop designed to help individuals better understand nerve-related pain\, numbness\, tingling\, and balance issues. \nThis in-person workshop will be led by Dr. Loren Kimble\, PT\, DPT\, CEO\, Founder\, and Owner of KODA Physical Therapy\, who will provide a clear\, patient-focused explanation of neuropathy and available physical therapy–based treatment approaches. \nDuring this workshop\, you will learn: \n\n\nWhat neuropathy is and common causes of nerve pain \n\n\nSigns and symptoms of peripheral neuropathy \n\n\nHow neuropathy affects balance\, strength\, and mobility \n\n\nPhysical therapy strategies used to manage neuropathy symptoms \n\n\nAnswers to common questions about neuropathy treatment and care \n\n\nThis workshop is ideal for individuals in Petaluma and Sonoma County experiencing nerve pain\, numbness\, burning sensations\, or balance difficulties\, as well as those seeking non-surgical\, conservative treatment options. \nJoin KODA Physical Therapy on September 18\, 2025\, in Petaluma\, CA to learn more about neuropathy and how physical therapy may help improve your quality of life.
URL:https://kodapt.com/event/neuropathy-workshop/
END:VEVENT
BEGIN:VEVENT
DTSTART;TZID=UTC:20250613T150000
DTEND;TZID=UTC:20250613T170000
DTSTAMP:20260422T222112
CREATED:20260108T201728Z
LAST-MODIFIED:20260108T201728Z
UID:1085-1749826800-1749834000@kodapt.com
SUMMARY:Diabetic Neuropathy Workshop
DESCRIPTION:KODA Physical Therapy Neuropathy Workshop | Petaluma\, CA\nJune 13\, 2025 | 3:00–5:00 PM \nKODA Physical Therapy in Petaluma\, California invites you to an in-depth Neuropathy Workshop focused on understanding nerve pain\, numbness\, tingling\, and balance challenges—and exploring innovative treatment solutions. \nThis in-person workshop will be led by Dr. Loren Kimble\, PT\, DPT\, CEO\, Founder\, and Owner of KODA Physical Therapy\, and will feature special guest Dr. Collins from New Jersey\, a specialist in neuropathy and StimPod™\, an innovative medical technology designed to support nerve health and reduce neuropathy symptoms. \nDuring this neuropathy workshop\, you will learn: \n\n\nWhat neuropathy is and common causes of nerve damage \n\n\nSymptoms of peripheral neuropathy and how they affect daily life \n\n\nHow physical therapy helps manage neuropathy-related pain and balance issues \n\n\nAn overview of StimPod™ technology and how it is used for neuropathy care \n\n\nLive education and Q&A with neuropathy specialists \n\n\nThis workshop is ideal for individuals in Petaluma\, Sonoma County\, and surrounding areas seeking conservative\, non-surgical options for neuropathy treatment and symptom relief. \nJoin KODA Physical Therapy on June 13\, 2025\, from 3–5 PM in Petaluma\, CA to learn how physical therapy and innovative technology may help manage neuropathy.
URL:https://kodapt.com/event/diabetic-neuropathy-workshop/
END:VEVENT
END:VCALENDAR